BEGIN:VCALENDAR
VERSION:2.0
PRODID:-//Squarespace Inc/Squarespace 6//v6//EN
BEGIN:VEVENT
UID:5b4805e2758d46933174b664@squarespace.com
DTSTAMP:20180725T105156Z
DTSTART:20181019T180000Z
DTEND:20181022T060000Z
SUMMARY:Challenger Cup - Junior Secondary Schools
GEO:-37.681856;176.231518
LOCATION:Baywave Aquatic & Leisure Centre\, Gloucester Road\, Tauranga\, Ba
 y Of Plenty\, 3116\, New Zealand
END:VEVENT
END:VCALENDAR
