BEGIN:VCALENDAR
VERSION:2.0
PRODID:-//Squarespace Inc/Squarespace 6//v6//EN
BEGIN:VEVENT
UID:5b4808380e2e72329e11d2b6@squarespace.com
DTSTAMP:20180725T105213Z
DTSTART:20181024T180000Z
DTEND:20181028T060000Z
SUMMARY:North Island Year 7 & 8 Championships
END:VEVENT
END:VCALENDAR
