BEGIN:VCALENDAR
VERSION:2.0
PRODID:-//Squarespace Inc/Squarespace 6//v6//EN
BEGIN:VEVENT
UID:5b4805bf8a922d10eaccc8b3@squarespace.com
DTSTAMP:20180725T105048Z
DTSTART:20181004T180000Z
DTEND:20181008T060000Z
SUMMARY:U18 National Championships
END:VEVENT
END:VCALENDAR
