BEGIN:VCALENDAR
VERSION:2.0
PRODID:-//Squarespace Inc/Squarespace 6//v6//EN
BEGIN:VEVENT
UID:5b47a96970a6ad0ca9b4fcca@squarespace.com
DTSTAMP:20180804T015738Z
DTSTART:20181008T060000Z
DTEND:20181008T080000Z
SUMMARY:WWP Committee Meeting
GEO:41.490888;-71.285217
LOCATION:Wedt Wave Club Rooms\, 20 Alderman Drive\, Auckland\, Auckland\, 0
 612\, New Zealand
END:VEVENT
END:VCALENDAR
