BEGIN:VCALENDAR
VERSION:2.0
PRODID:-//Squarespace Inc/Squarespace 6//v6//EN
BEGIN:VEVENT
UID:5b47a993562fa712365d59ba@squarespace.com
DTSTAMP:20181109T075246Z
DTSTART:20181105T060000Z
DTEND:20181105T080000Z
SUMMARY:WWP Committee Meeting
GEO:-36.876175;174.634012
LOCATION:West Wave Club Rooms\, 20 Alderman Drive\, Auckland\, Auckland\, 0
 612\, New Zealand
END:VEVENT
END:VCALENDAR
