BEGIN:VCALENDAR
VERSION:2.0
PRODID:-//Squarespace Inc/Squarespace 6//v6//EN
BEGIN:VEVENT
UID:5b83229221c67c8d1fb5fe7a@squarespace.com
DTSTAMP:20180826T215856Z
DTSTART:20180922T010000Z
DTEND:20180922T080000Z
SUMMARY:U16 Auckland League Week 8
GEO:-36.876426;174.633771
LOCATION:Various Pools
END:VEVENT
END:VCALENDAR
