BEGIN:VCALENDAR
VERSION:2.0
PRODID:-//Squarespace Inc/Squarespace 6//v6//EN
BEGIN:VEVENT
UID:5b8322534fa51af3fa00018d@squarespace.com
DTSTAMP:20180826T215800Z
DTSTART:20180908T010000Z
DTEND:20180908T080000Z
SUMMARY:U16 Auckland League Week 6
GEO:-36.876426;174.633771
LOCATION:Various Pools
END:VEVENT
END:VCALENDAR
