BEGIN:VCALENDAR
VERSION:2.0
PRODID:-//Squarespace Inc/Squarespace 6//v6//EN
BEGIN:VEVENT
UID:5b8321e6758d46345de5b164@squarespace.com
DTSTAMP:20180826T215606Z
DTSTART:20180922T230000Z
DTEND:20180923T070000Z
SUMMARY:U18 Auckland League Week 8
END:VEVENT
END:VCALENDAR
