BEGIN:VCALENDAR
VERSION:2.0
PRODID:-//Squarespace Inc/Squarespace 6//v6//EN
BEGIN:VEVENT
UID:5b83216caa4a996cc7ac6df7@squarespace.com
DTSTAMP:20180826T215409Z
DTSTART:20180908T230000Z
DTEND:20180909T070000Z
SUMMARY:U18 Auckland League Week 6
END:VEVENT
END:VCALENDAR
