BEGIN:VCALENDAR
VERSION:2.0
PRODID:-//Squarespace Inc/Squarespace 6//v6//EN
BEGIN:VEVENT
UID:5b4804df03ce649d01ffd910@squarespace.com
DTSTAMP:20180725T104936Z
DTSTART:20180830T190000Z
DTEND:20180902T070000Z
SUMMARY:Tim Sonderer Memorial Trophy - Year 7 & 8
END:VEVENT
END:VCALENDAR
