BEGIN:VCALENDAR
VERSION:2.0
PRODID:-//Squarespace Inc/Squarespace 6//v6//EN
BEGIN:VEVENT
UID:5b480471575d1f0599486037@squarespace.com
DTSTAMP:20180725T104910Z
DTSTART:20180830T190000Z
DTEND:20180902T070000Z
SUMMARY:U14 Development Tournament
GEO:-38.133155;176.242128
LOCATION:Rotorua Aquatic Centre\, 18 Tarewa Road\, Rotorua\, Bay Of Plenty\
 , 3010\, New Zealand
END:VEVENT
END:VCALENDAR
