BEGIN:VCALENDAR
VERSION:2.0
PRODID:-//Squarespace Inc/Squarespace 6//v6//EN
BEGIN:VEVENT
UID:5b5a31028a922dc3be6ab23e@squarespace.com
DTSTAMP:20181014T000048Z
DTSTART:20180928T043000Z
DTEND:20180928T080000Z
SUMMARY:Year 7 &amp\; 8 League Finals
GEO:-36.876426;174.633771
LOCATION:West Wave Aquatic Centre\, 20 Alderman Drive\, Auckland\, Auckland
 \, 0612\, New Zealand
END:VEVENT
END:VCALENDAR
