BEGIN:VCALENDAR
VERSION:2.0
PRODID:-//Squarespace Inc/Squarespace 6//v6//EN
BEGIN:VEVENT
UID:5b4805942b6a286d041bb0f2@squarespace.com
DTSTAMP:20180725T105026Z
DTSTART:20180928T190000Z
DTEND:20181003T060000Z
SUMMARY:U16 National Championships
END:VEVENT
END:VCALENDAR
