BEGIN:VCALENDAR
VERSION:2.0
PRODID:-//Squarespace Inc/Squarespace 6//v6//EN
BEGIN:VEVENT
UID:5bef269d88251b73aaafb23c@squarespace.com
DTSTAMP:20181116T202101Z
DTSTART:20181117T210000Z
DTEND:20181117T223000Z
SUMMARY:Flippa Ball Have a Go Day (2)
END:VEVENT
END:VCALENDAR
