BEGIN:VCALENDAR
VERSION:2.0
PRODID:-//Squarespace Inc/Squarespace 6//v6//EN
BEGIN:VEVENT
UID:5bef26c98a922de331d2c80f@squarespace.com
DTSTAMP:20181116T202144Z
DTSTART:20181201T210000Z
DTEND:20181201T223000Z
SUMMARY:Flippa Ball Have a Go Day (4)
END:VEVENT
END:VCALENDAR
