BEGIN:VCALENDAR
VERSION:2.0
PRODID:-//Squarespace Inc/Squarespace 6//v6//EN
BEGIN:VEVENT
UID:5bef26368a922de331d2c015@squarespace.com
DTSTAMP:20181116T201941Z
DTSTART:20181015T050000Z
DTEND:20181015T074500Z
SUMMARY:Senior Pre-Season Training Begins
END:VEVENT
END:VCALENDAR
