BEGIN:VCALENDAR
VERSION:2.0
PRODID:-//Squarespace Inc/Squarespace 6//v6//EN
BEGIN:VEVENT
UID:5bc287000d9297cb3890a4c2@squarespace.com
DTSTAMP:20181014T000030Z
DTSTART:20180923T050000Z
DTEND:20180923T090000Z
SUMMARY:U14 Auckland League Week 2
END:VEVENT
END:VCALENDAR
