BEGIN:VCALENDAR
VERSION:2.0
PRODID:-//Squarespace Inc/Squarespace 6//v6//EN
BEGIN:VEVENT
UID:5bc28739652deab94f18bdab@squarespace.com
DTSTAMP:20181014T000125Z
DTSTART:20181014T030000Z
DTEND:20181014T073000Z
SUMMARY:U14 Auckland League Week 3
END:VEVENT
END:VCALENDAR
