BEGIN:VCALENDAR
VERSION:2.0
PRODID:-//Squarespace Inc/Squarespace 6//v6//EN
BEGIN:VEVENT
UID:5bc28787652deab94f18c07f@squarespace.com
DTSTAMP:20181014T000239Z
DTSTART:20181109T230000Z
DTEND:20181110T080000Z
SUMMARY:U14 Auckland League Week 5
END:VEVENT
END:VCALENDAR
