BEGIN:VCALENDAR
VERSION:2.0
PRODID:-//Squarespace Inc/Squarespace 6//v6//EN
BEGIN:VEVENT
UID:5bc287ace2c48365e0c5af1d@squarespace.com
DTSTAMP:20181014T000306Z
DTSTART:20181116T230000Z
DTEND:20181117T060000Z
SUMMARY:U14 Auckland League Week 6
END:VEVENT
END:VCALENDAR
