BEGIN:VCALENDAR
VERSION:2.0
PRODID:-//Squarespace Inc/Squarespace 6//v6//EN
BEGIN:VEVENT
UID:5bc28ccb8165f51c6ae85b4c@squarespace.com
DTSTAMP:20181014T002443Z
DTSTART:20181130T230000Z
DTEND:20181201T080000Z
SUMMARY:U14 Auckland League Week 7
END:VEVENT
END:VCALENDAR
