BEGIN:VCALENDAR
VERSION:2.0
PRODID:-//Squarespace Inc/Squarespace 6//v6//EN
BEGIN:VEVENT
UID:5ba99fa0b208fc63480cad52@squarespace.com
DTSTAMP:20180925T024014Z
DTSTART:20181008T214500Z
DTEND:20181012T021500Z
SUMMARY:Under 12/14 Holiday Camp
GEO:-36.876426;174.633771
LOCATION:West Wave Aquatic Centre\, 20 Alderman Drive\, Auckland\, Auckland
 \, 0612\, New Zealand
END:VEVENT
END:VCALENDAR
