BEGIN:VCALENDAR
VERSION:2.0
PRODID:-//Squarespace Inc/Squarespace 6//v6//EN
BEGIN:VEVENT
UID:5c1438f1032be42f61189b4f@squarespace.com
DTSTAMP:20181214T231313Z
DTSTART:20190705T210000Z
DTEND:20190709T080000Z
SUMMARY:18 &amp\; Under National Championships
GEO:-36.84846;174.763332
LOCATION:Auckland
END:VEVENT
END:VCALENDAR
