BEGIN:VCALENDAR
VERSION:2.0
PRODID:-//Squarespace Inc/Squarespace 6//v6//EN
BEGIN:VEVENT
UID:5c1438c82b6a28e46b56262b@squarespace.com
DTSTAMP:20181214T231230Z
DTSTART:20190627T210000Z
DTEND:20190630T080000Z
SUMMARY:21 &amp\; Under National Championships
GEO:-36.876426;174.633771
LOCATION:Auckland
END:VEVENT
END:VCALENDAR
