BEGIN:VCALENDAR
VERSION:2.0
PRODID:-//Squarespace Inc/Squarespace 6//v6//EN
BEGIN:VEVENT
UID:5c1438a0032be42f61189645@squarespace.com
DTSTAMP:20181214T231144Z
DTSTART:20190422T210000Z
DTEND:20190426T080000Z
SUMMARY:New Zealand Secondary Schools Division Two Boys' National Champions
 hips
GEO:-36.876426;174.633771
LOCATION:Rotorua
END:VEVENT
END:VCALENDAR
