BEGIN:VCALENDAR
VERSION:2.0
PRODID:-//Squarespace Inc/Squarespace 6//v6//EN
BEGIN:VEVENT
UID:5c14385b40ec9a6a00bfb9ca@squarespace.com
DTSTAMP:20181214T231119Z
DTSTART:20190412T210000Z
DTEND:20190416T080000Z
SUMMARY:New Zealand Secondary Schools Girls' National Championships (Divisi
 on Two)
GEO:-38.136848;176.249746
LOCATION:Rotorua
END:VEVENT
END:VCALENDAR
