BEGIN:VCALENDAR
VERSION:2.0
PRODID:-//Squarespace Inc/Squarespace 6//v6//EN
BEGIN:VEVENT
UID:5c1437ee40ec9a6a00bfb20f@squarespace.com
DTSTAMP:20181214T230900Z
DTSTART:20190327T200000Z
DTEND:20190330T190000Z
SUMMARY:North Island Secondary Schools Championships (Division 1)
GEO:-36.84846;174.763332
LOCATION:Auckland\, New Zealand
END:VEVENT
END:VCALENDAR
