BEGIN:VCALENDAR
VERSION:2.0
PRODID:-//Squarespace Inc/Squarespace 6//v6//EN
BEGIN:VEVENT
UID:5c14395faa4a99be1d5b1631@squarespace.com
DTSTAMP:20181214T232336Z
DTSTART:20190815T210000Z
DTEND:20190818T080000Z
SUMMARY:Year 7 &amp\; 8 Winter Festival
GEO:-36.876426;174.633771
LOCATION:Auckland
END:VEVENT
END:VCALENDAR
